BEGIN:VCALENDAR
VERSION:2.0
PRODID:-//Motels North Ocean City MD | Sea Hawk Motel  124th - ECPv4.9.14.1//NONSGML v1.0//EN
CALSCALE:GREGORIAN
METHOD:PUBLISH
X-WR-CALNAME:Motels North Ocean City MD | Sea Hawk Motel  124th
X-ORIGINAL-URL:https://seahawkmotel.com
X-WR-CALDESC:Events for Motels North Ocean City MD | Sea Hawk Motel  124th
BEGIN:VTIMEZONE
TZID:America/New_York
BEGIN:DAYLIGHT
TZOFFSETFROM:-0500
TZOFFSETTO:-0400
TZNAME:EDT
DTSTART:20190310T070000
END:DAYLIGHT
BEGIN:STANDARD
TZOFFSETFROM:-0400
TZOFFSETTO:-0500
TZNAME:EST
DTSTART:20191103T060000
END:STANDARD
END:VTIMEZONE
BEGIN:VEVENT
DTSTART;TZID=America/New_York:20190104T000000
DTEND;TZID=America/New_York:20190104T000000
DTSTAMP:20260424T015435
CREATED:20190103T062002Z
LAST-MODIFIED:20190103T062002Z
UID:10784-1546560000-1546560000@seahawkmotel.com
SUMMARY:DJ Hook
DESCRIPTION:DJ Hook will make sure your ready to dance and party the night away here on our decks! DJ Hook’s command of the party is evident as he seamlessly mixes from reggae\, to rock\, and to today’s hottest dance hits without missing a beat—never in that particular order!\n \n
URL:https://seahawkmotel.com/event/dj-hook-16/
END:VEVENT
BEGIN:VEVENT
DTSTART;TZID=America/New_York:20190104T000000
DTEND;TZID=America/New_York:20190104T000000
DTSTAMP:20260424T015435
CREATED:20190104T061652Z
LAST-MODIFIED:20190104T061652Z
UID:10786-1546560000-1546560000@seahawkmotel.com
SUMMARY:DJ Hook
DESCRIPTION:DJ Hook will make sure your ready to dance and party the night away here on our decks! DJ Hook’s command of the party is evident as he seamlessly mixes from reggae\, to rock\, and to today’s hottest dance hits without missing a beat—never in that particular order!\n \n
URL:https://seahawkmotel.com/event/dj-hook-17/
END:VEVENT
END:VCALENDAR