BEGIN:VCALENDAR
VERSION:2.0
PRODID:-//Motels North Ocean City MD | Sea Hawk Motel  124th - ECPv4.9.14.1//NONSGML v1.0//EN
CALSCALE:GREGORIAN
METHOD:PUBLISH
X-WR-CALNAME:Motels North Ocean City MD | Sea Hawk Motel  124th
X-ORIGINAL-URL:https://seahawkmotel.com
X-WR-CALDESC:Events for Motels North Ocean City MD | Sea Hawk Motel  124th
BEGIN:VTIMEZONE
TZID:America/New_York
BEGIN:DAYLIGHT
TZOFFSETFROM:-0500
TZOFFSETTO:-0400
TZNAME:EDT
DTSTART:20190310T070000
END:DAYLIGHT
BEGIN:STANDARD
TZOFFSETFROM:-0400
TZOFFSETTO:-0500
TZNAME:EST
DTSTART:20191103T060000
END:STANDARD
END:VTIMEZONE
BEGIN:VEVENT
DTSTART;TZID=America/New_York:20190103T100000
DTEND;TZID=America/New_York:20190103T110000
DTSTAMP:20260424T033129
CREATED:20190103T181644Z
LAST-MODIFIED:20190103T181644Z
UID:10785-1546509600-1546513200@seahawkmotel.com
SUMMARY:Local colors\, Watercolors - Watercolor techniques - bringing it all together
DESCRIPTION:Come to the Art League of Ocean City for a watercolor paint session. Enjoy this paint along with Artist Geri. You will have fun while you learn to capture the “local color” in watercolors. \n
URL:https://seahawkmotel.com/event/local-colors-watercolors-watercolor-techniques-bringing-it-all-together/
END:VEVENT
END:VCALENDAR