BEGIN:VCALENDAR
VERSION:2.0
PRODID:-//Motels North Ocean City MD | Sea Hawk Motel  124th - ECPv4.9.14.1//NONSGML v1.0//EN
CALSCALE:GREGORIAN
METHOD:PUBLISH
X-WR-CALNAME:Motels North Ocean City MD | Sea Hawk Motel  124th
X-ORIGINAL-URL:https://seahawkmotel.com
X-WR-CALDESC:Events for Motels North Ocean City MD | Sea Hawk Motel  124th
BEGIN:VTIMEZONE
TZID:America/New_York
BEGIN:DAYLIGHT
TZOFFSETFROM:-0500
TZOFFSETTO:-0400
TZNAME:EDT
DTSTART:20190310T070000
END:DAYLIGHT
BEGIN:STANDARD
TZOFFSETFROM:-0400
TZOFFSETTO:-0500
TZNAME:EST
DTSTART:20191103T060000
END:STANDARD
END:VTIMEZONE
BEGIN:VEVENT
DTSTART;TZID=America/New_York:20190102T103000
DTEND;TZID=America/New_York:20190102T113000
DTSTAMP:20260424T045738
CREATED:20190102T061830Z
LAST-MODIFIED:20190102T061830Z
UID:10773-1546425000-1546428600@seahawkmotel.com
SUMMARY:Bring your young children to the Ocean City Library for STEAM story time
DESCRIPTION:Join the Worcester County Library for an exciting STEAM storytime event at the Ocean City Branch. This week’s theme is “attract and repel — a look at magnets.” \n
URL:https://seahawkmotel.com/event/bring-your-young-children-to-the-ocean-city-library-for-steam-story-time/
END:VEVENT
BEGIN:VEVENT
DTSTART;TZID=America/New_York:20190102T103000
DTEND;TZID=America/New_York:20190102T113000
DTSTAMP:20260424T045738
CREATED:20190102T181655Z
LAST-MODIFIED:20190102T181655Z
UID:10781-1546425000-1546428600@seahawkmotel.com
SUMMARY:Bring your young children to the Ocean City Library for STEAM story time
DESCRIPTION:Join the Worcester County Library for an exciting STEAM storytime event at the Ocean City Branch. This week’s theme is “attract and repel — a look at magnets.” \n
URL:https://seahawkmotel.com/event/bring-your-young-children-to-the-ocean-city-library-for-steam-story-time-2/
END:VEVENT
END:VCALENDAR