BEGIN:VCALENDAR
VERSION:2.0
PRODID:-//Motels North Ocean City MD | Sea Hawk Motel  124th - ECPv4.9.14.1//NONSGML v1.0//EN
CALSCALE:GREGORIAN
METHOD:PUBLISH
X-WR-CALNAME:Motels North Ocean City MD | Sea Hawk Motel  124th
X-ORIGINAL-URL:https://seahawkmotel.com
X-WR-CALDESC:Events for Motels North Ocean City MD | Sea Hawk Motel  124th
BEGIN:VTIMEZONE
TZID:America/New_York
BEGIN:DAYLIGHT
TZOFFSETFROM:-0500
TZOFFSETTO:-0400
TZNAME:EDT
DTSTART:20260308T070000
END:DAYLIGHT
BEGIN:STANDARD
TZOFFSETFROM:-0400
TZOFFSETTO:-0500
TZNAME:EST
DTSTART:20261101T060000
END:STANDARD
END:VTIMEZONE
BEGIN:VEVENT
DTSTART;TZID=America/New_York:20260612T193000
DTEND;TZID=America/New_York:20260612T230000
DTSTAMP:20260423T165146
CREATED:20260218T183412Z
LAST-MODIFIED:20260423T063837Z
UID:389919-1781292600-1781305200@seahawkmotel.com
SUMMARY:Whiskey Graves Band
DESCRIPTION:With influences like Neil Diamond who encouraged songs that were authentic and true\, Whiskey Graves found music intoxicating.  Come see this dynamic band play live at High Stakes Bar and Grille in Fenwick Island which always features some of the best local talent!  \n
URL:https://seahawkmotel.com/event/whiskey-graves-band/
LOCATION:High Stakes Bar & Grill\, 5799 Lighthouse Cove Ln\, Fenwick Island\, DE\, 19944\, United States
ATTACH;FMTTYPE=image/jpeg:/app/uploads/2026/02/electric_guitar_background-1.jpg
END:VEVENT
END:VCALENDAR