BEGIN:VCALENDAR
VERSION:2.0
PRODID:-//Motels North Ocean City MD | Sea Hawk Motel  124th - ECPv4.9.14.1//NONSGML v1.0//EN
CALSCALE:GREGORIAN
METHOD:PUBLISH
X-WR-CALNAME:Motels North Ocean City MD | Sea Hawk Motel  124th
X-ORIGINAL-URL:https://seahawkmotel.com
X-WR-CALDESC:Events for Motels North Ocean City MD | Sea Hawk Motel  124th
BEGIN:VTIMEZONE
TZID:America/New_York
BEGIN:DAYLIGHT
TZOFFSETFROM:-0500
TZOFFSETTO:-0400
TZNAME:EDT
DTSTART:20260308T070000
END:DAYLIGHT
BEGIN:STANDARD
TZOFFSETFROM:-0400
TZOFFSETTO:-0500
TZNAME:EST
DTSTART:20261101T060000
END:STANDARD
END:VTIMEZONE
BEGIN:VEVENT
DTSTART;TZID=America/New_York:20260530T193000
DTEND;TZID=America/New_York:20260530T230000
DTSTAMP:20260423T085625
CREATED:20260218T183404Z
LAST-MODIFIED:20260423T063824Z
UID:389917-1780169400-1780182000@seahawkmotel.com
SUMMARY:Ragged Mile
DESCRIPTION:\nRagged Mile will rock the stage at High Stakes Bar and Grill in Fenwick Island which always features some of the best local talent! Enjoy a great dinner\, classic cocktails and rock out with Ragged Mile tonight.  \n \n
URL:https://seahawkmotel.com/event/ragged-mile/
LOCATION:High Stakes Bar & Grill\, 5799 Lighthouse Cove Ln\, Fenwick Island\, DE\, 19944\, United States
ATTACH;FMTTYPE=image/jpeg:/app/uploads/2026/02/electric_guitar_background.jpg
END:VEVENT
END:VCALENDAR