BEGIN:VCALENDAR
VERSION:2.0
PRODID:-//Motels North Ocean City MD | Sea Hawk Motel  124th - ECPv4.9.14.1//NONSGML v1.0//EN
CALSCALE:GREGORIAN
METHOD:PUBLISH
X-WR-CALNAME:Motels North Ocean City MD | Sea Hawk Motel  124th
X-ORIGINAL-URL:https://seahawkmotel.com
X-WR-CALDESC:Events for Motels North Ocean City MD | Sea Hawk Motel  124th
BEGIN:VTIMEZONE
TZID:America/New_York
BEGIN:DAYLIGHT
TZOFFSETFROM:-0500
TZOFFSETTO:-0400
TZNAME:EDT
DTSTART:20260308T070000
END:DAYLIGHT
BEGIN:STANDARD
TZOFFSETFROM:-0400
TZOFFSETTO:-0500
TZNAME:EST
DTSTART:20261101T060000
END:STANDARD
END:VTIMEZONE
BEGIN:VEVENT
DTSTART;TZID=America/New_York:20260501T210000
DTEND;TZID=America/New_York:20260501T210000
DTSTAMP:20260421T052920
CREATED:20260409T063508Z
LAST-MODIFIED:20260420T183053Z
UID:391726-1777669200-1777669200@seahawkmotel.com
SUMMARY:DJ Mary Jane
DESCRIPTION:Come party on ‘de Bay with DJ Mary Jane at Seacrets in midtown Ocean City. DJ Mary Jane is a local DJ whose passion for music started at a very young age\, she has enjoyed playing at all your favorite bars in Ocean City. Today she is at Seacrets and you don’t want to miss the party.  Party under the palms with great appetizers\, food\, and drink specials this afternoon.  \n
URL:https://seahawkmotel.com/event/dj-mary-jane-3/
LOCATION:Seacrets\, 49th Street On The Bay\, Ocean City\, MD\, 21842\, United States
ATTACH;FMTTYPE=image/jpeg:/app/uploads/2026/04/dj_turnatables-2.jpg
END:VEVENT
END:VCALENDAR