BEGIN:VCALENDAR
VERSION:2.0
PRODID:-//Motels North Ocean City MD | Sea Hawk Motel  124th - ECPv4.9.14.1//NONSGML v1.0//EN
CALSCALE:GREGORIAN
METHOD:PUBLISH
X-WR-CALNAME:Motels North Ocean City MD | Sea Hawk Motel  124th
X-ORIGINAL-URL:https://seahawkmotel.com
X-WR-CALDESC:Events for Motels North Ocean City MD | Sea Hawk Motel  124th
BEGIN:VTIMEZONE
TZID:America/New_York
BEGIN:DAYLIGHT
TZOFFSETFROM:-0500
TZOFFSETTO:-0400
TZNAME:EDT
DTSTART:20260308T070000
END:DAYLIGHT
BEGIN:STANDARD
TZOFFSETFROM:-0400
TZOFFSETTO:-0500
TZNAME:EST
DTSTART:20261101T060000
END:STANDARD
END:VTIMEZONE
BEGIN:VEVENT
DTSTART;TZID=America/New_York:20260501T210000
DTEND;TZID=America/New_York:20260501T210000
DTSTAMP:20260421T052047
CREATED:20260409T063510Z
LAST-MODIFIED:20260420T183050Z
UID:391728-1777669200-1777669200@seahawkmotel.com
SUMMARY:DJ E-State
DESCRIPTION:If you’re looking for a party\, complete with palm trees and Seacrets spirits\, then you are going to want to head to Seacrets tonight!  The party with DJ E-State begins at 9 pm on the Tiki stage. Get ready to dance the night away with DJ E-State\, enjoy frozen cocktails and bar specials\, and so much more beneath the palm trees. \n  \n\n\n\n \n\n\n
URL:https://seahawkmotel.com/event/dj-e-state-4/
LOCATION:Seacrets\, 49th Street On The Bay\, Ocean City\, MD\, 21842\, United States
ATTACH;FMTTYPE=image/png:/app/uploads/2026/04/dj-turn-table-6.png
END:VEVENT
END:VCALENDAR