BEGIN:VCALENDAR
VERSION:2.0
PRODID:-//Motels North Ocean City MD | Sea Hawk Motel  124th - ECPv4.9.14.1//NONSGML v1.0//EN
CALSCALE:GREGORIAN
METHOD:PUBLISH
X-WR-CALNAME:Motels North Ocean City MD | Sea Hawk Motel  124th
X-ORIGINAL-URL:https://seahawkmotel.com
X-WR-CALDESC:Events for Motels North Ocean City MD | Sea Hawk Motel  124th
BEGIN:VTIMEZONE
TZID:America/New_York
BEGIN:DAYLIGHT
TZOFFSETFROM:-0500
TZOFFSETTO:-0400
TZNAME:EDT
DTSTART:20260308T070000
END:DAYLIGHT
BEGIN:STANDARD
TZOFFSETFROM:-0400
TZOFFSETTO:-0500
TZNAME:EST
DTSTART:20261101T060000
END:STANDARD
END:VTIMEZONE
BEGIN:VEVENT
DTSTART;TZID=America/New_York:20261026T163000
DTEND;TZID=America/New_York:20261026T163000
DTSTAMP:20260425T115302
CREATED:20260424T183907Z
LAST-MODIFIED:20260425T063604Z
UID:392810-1793032200-1793032200@seahawkmotel.com
SUMMARY:Deck Party With Live Bands and DJ's On The Deck at Fager's
DESCRIPTION:It’s time to Dance on the Fager’s Island Decks and have some fun with great local bands. Head to the deck and check out today’s live bands and DJ’s right on the deck at Fager’s Island!\n
URL:https://seahawkmotel.com/event/deck-party-with-live-bands-and-djs-on-the-deck-at-fagers-27/
LOCATION:Fager’s Island\, 201 60th St\, Ocean City\, MD\, 21842\, United States
ATTACH;FMTTYPE=image/png:/app/uploads/2026/04/Untitled_design_4_-26.png
END:VEVENT
END:VCALENDAR